BEGIN:VCALENDAR
VERSION:2.0
PRODID:-//Plone.org//NONSGML plone.app.event//EN
X-WR-TIMEZONE:Europe/Brussels
BEGIN:VEVENT
SUMMARY:Rencontre des bénévoles et associations - dimanche 19 avril
DTSTART;TZID=Europe/Brussels;VALUE=DATE-TIME:20260419T100000
DTEND;TZID=Europe/Brussels;VALUE=DATE-TIME:20260419T160000
DTSTAMP;VALUE=DATE-TIME:20260419T135621Z
UID:86a7420b01614d3f97030147900b7179@acwb.plone.brussels
CONTACT:02.674.75.36\, participation@wb1170.brussels
CREATED;VALUE=DATE-TIME:20260312T141914Z
LAST-MODIFIED;VALUE=DATE-TIME:20260415T103918Z
LOCATION:Studio Logis
URL:https://www.watermael-boitsfort.be/fr/participez/rencontre-benevoles-a
 ssociations
END:VEVENT
BEGIN:VTIMEZONE
TZID:Europe/Brussels
X-LIC-LOCATION:Europe/Brussels
BEGIN:DAYLIGHT
DTSTART;VALUE=DATE-TIME:20260329T030000
TZNAME:CEST
TZOFFSETFROM:+0100
TZOFFSETTO:+0200
END:DAYLIGHT
END:VTIMEZONE
END:VCALENDAR
